BEGIN:VCALENDAR
VERSION:2.0
PRODID:-//Reggia di Caserta //NONSGML Events //EN
CALSCALE:GREGORIAN
X-WR-CALNAME:Reggia di Caserta
BEGIN:VEVENT
CREATED:20250121T142602Z
UID:29406
DTEND;VALUE=DATE:19700823T120203
DTSTART;VALUE=DATE:20250123T044516
DTSTAMP:20260426T034516Z
LOCATION:
DESCRIPTION:<p data-olk-copy-source="MailCompose">La rassegna <strong>Specchi di Musica</strong>, organizzata dall'Università degli Studi della Campania Luigi Vanvitelli e curata da Paologiovanni Maione, professore di Musicologia e Storia della Musica del Dipartimento di Lettere e Beni Culturali, vi aspetta, al suo primo appuntamento, <strong>giovedì 23 gennaio</strong> alle <strong>ore 17:30</strong> in Cappella Palatina per un concerto con le “serenate” di <strong>Alessandro Scarlatti</strong>.</p> Il 2025 è l’anno in cui cade il <strong>terzo centenario della morte del grande compositore</strong>, maestro di cappella della Cappella Reale di Napoli dagli anni Ottanta del Seicento fino alla sua dipartita. Nella splendida cornice della Cappella Palatina si esibirà il <strong>soprano Francesca Aspromonte</strong> – stella del canto barocco – con il gruppo <strong>Arsenale Sonoro</strong> diretto da <strong>Boris Begelman</strong>. L’accesso in Cappella Palatina è previsto 30 minuti prima dell’inizio del concerto. La partecipazione all’iniziativa rientra nel costo ordinario del biglietto/abbonamento della Reggia di Caserta. Il biglietto “Serale Appartamenti”, che include la visita agli Appartamenti reali dalle 17, ha un costo di 5 euro. Le iniziative della rassegna sono state selezionate dal comitato scientifico del Museo nell'ambito del Bando di Valorizzazione partecipata.
SUMMARY:Specchi di Musica in Cappella Palatina
ORGANIZER:Reggia di Caserta
URL;VALUE=URI:https://reggiadicaserta.cultura.gov.it/iniziative/specchi-di-musica-in-cappella-palatina/
TRANSP:OPAQUE
BEGIN:VALARM
ACTION:DISPLAY
TRIGGER;VALUE=DATE-TIME:
DESCRIPTION:Reminder for Specchi di Musica in Cappella Palatina
END:VALARM
END:VEVENT
END:VCALENDAR
