BEGIN:VCALENDAR
VERSION:2.0
PRODID:-//Reggia di Caserta //NONSGML Events //EN
CALSCALE:GREGORIAN
X-WR-CALNAME:Reggia di Caserta
BEGIN:VEVENT
CREATED:20250114T090002Z
UID:29187
DTEND;VALUE=DATE:20250222T031916
DTSTART;VALUE=DATE:20250118T031916
DTSTAMP:20260426T021916Z
LOCATION:
DESCRIPTION:La rassegna Classica Giovani, organizzata dall'Associazione Armonia Aps - ETS sotto la direzione artistica M° Aldo Ragone, vi aspetta alle ore 17:30 in Cappella Palatina della Reggia di Caserta per:   <strong>Sabato 18 gennaio </strong> il Programma <strong>Ensemble di Oboi e Clarinetti</strong>. <b>Esecutori:</b> <b>Sara Nicosia - Pianoforte</b> <b>Giacomo Bertolini - Violoncello</b> <b>Jennifer Piazza - Clarinetto</b> Ecco il <strong>programma</strong>: <b>L. V. Beethoven</b> Trio op.38 per pianoforte, violoncello, clarinetto (Adagio-Allegro con brio: Adagio cantabile, Tempo di Minuetto; Andante con variazioni, Scherzo. Allegro molto e vivace: Andante con moto, alla marcia-Presto.) <b>P. Juon</b> Trio Miniature per pianoforte, violoncello, clarinetto (Reverie, Humoreske, Elegie; Danse Phantastique)   <strong>Sabato 22 febbraio</strong> Programma <strong>Concerto di Pianoforte</strong> <strong>Esecutori:</strong> <strong>Gabriele Zicari</strong> <strong>Cristiana Fiani</strong> Ecco il <strong>programma</strong>: Gabriele Zicari S. Rachmaninoff: 8 Etudes-Tableaux op.33 -n.1 in fa minore; -n.2 in do maggiore; -n.3 in do minore; -n.4 in re minore; -n.5 in mi bemolle minore; -n.6 in mi bemolle maggiore; -n.7 in sol minore; -n.8 in do diesis minore. Cristiana Fiani F. Chopin: 3 Mazurche Op. 59 I. Stravinsky: Trois mouvements de Petrouchka   <strong>L’accesso in Cappella Palatina è previsto 30 minuti prima dell’inizio del concerto.</strong> <strong>La partecipazione all’iniziativa rientra nel costo ordinario del biglietto/abbonamento della Reggia di Caserta. Il biglietto “Serale Appartamenti”, che include la visita agli Appartamenti reali dalle 17, ha un costo di 5 euro.</strong> <strong>Le iniziative della rassegna Classica Giovani sono state selezionate dal comitato scientifico del Museo nell'ambito del Bando di Valorizzazione partecipata.</strong>
SUMMARY:Classica Giovani, concerti
ORGANIZER:Reggia di Caserta
URL;VALUE=URI:https://reggiadicaserta.cultura.gov.it/iniziative/classica-giovani-concerto-18-gennaio/
TRANSP:OPAQUE
BEGIN:VALARM
ACTION:DISPLAY
TRIGGER;VALUE=DATE-TIME:
DESCRIPTION:Reminder for Classica Giovani\, concerti
END:VALARM
END:VEVENT
END:VCALENDAR
