BEGIN:VCALENDAR
VERSION:2.0
PRODID:-//Reggia di Caserta //NONSGML Events //EN
CALSCALE:GREGORIAN
X-WR-CALNAME:Reggia di Caserta
BEGIN:VEVENT
CREATED:20250102T105855Z
UID:29048
DTEND;VALUE=DATE:19700823T120146
DTSTART;VALUE=DATE:20250106T014109
DTSTAMP:20260426T004109Z
LOCATION:
DESCRIPTION:<div data-olk-copy-source="MessageBody">Lunedì 6 gennaio, alle ore 12, in piazza Carlo di Borbone ci sarà la "Discesa della Befana”.</div> <div></div> <div>L’evento, organizzato dal Comune di Caserta, in collaborazione con il Comando Provinciale dei Vigili del Fuoco e la Reggia di Caserta, vedrà un vigile del fuoco, nei panni di una simpatica e coraggiosa Befana, calarsi da una finestra della facciata della Reggia con l'ausilio di automezzi speciali dei vigili del fuoco per interventi su edifici a grandi altezze. La Befana scenderà dal Palazzo Reale e atterrerà in piazza per distribuire doni e dolcezze ai bambini.</div> <div></div> <div>I regali della Befana sono deliziosi omaggi dell'Osservatorio della Dieta Mediterranea, della Coldiretti Caserta, de Le serre di Graefer e dell'amministrazione comunale Città di Caserta.</div> <div></div> <div>Foto di Ciro Faraldo</div>
SUMMARY:La Befana scende dalla Reggia di Caserta
ORGANIZER:Reggia di Caserta
URL;VALUE=URI:https://reggiadicaserta.cultura.gov.it/iniziative/la-befana-scende-dalla-reggia-di-caserta/
TRANSP:OPAQUE
BEGIN:VALARM
ACTION:DISPLAY
TRIGGER;VALUE=DATE-TIME:
DESCRIPTION:Reminder for La Befana scende dalla Reggia di Caserta
END:VALARM
END:VEVENT
END:VCALENDAR
