BEGIN:VCALENDAR
VERSION:2.0
PRODID:-//Reggia di Caserta //NONSGML Events //EN
CALSCALE:GREGORIAN
X-WR-CALNAME:Reggia di Caserta
BEGIN:VEVENT
CREATED:20241217T092419Z
UID:28937
DTEND;VALUE=DATE:20250101T044516
DTSTART;VALUE=DATE:20250101T044516
DTSTAMP:20260426T034516Z
LOCATION:
DESCRIPTION:<p data-olk-copy-source="MailCompose">Il 1° gennaio 2025 la Reggia di Caserta sarà aperta dalle 16 alle 19.30 con ultimo ingresso alle 18.</p> Il primo giorno dell'anno sarà possibile visitare gli Appartamenti reali, il Teatro di Corte e la mostra "Metawork - Michelangelo Pistoletto alla Reggia di Caserta". Aperta anche la Cappella Palatina e straordinariamente accessibili al pubblico i matronei. I biglietti saranno acquistabili in sede in piazza Carlo di Borbone e online su TicketOne al costo di 5 euro (+1euro di prevendita su Ticketone), riduzioni e gratuità come per legge. L'accesso all'apertura straordinaria è incluso nell'abbonamento ReggiaCard2025.
SUMMARY:Apertura straordinaria il 1° gennaio
ORGANIZER:Reggia di Caserta
URL;VALUE=URI:https://reggiadicaserta.cultura.gov.it/iniziative/apertura-straordinaria-il-1-gennaio/
TRANSP:OPAQUE
BEGIN:VALARM
ACTION:DISPLAY
TRIGGER;VALUE=DATE-TIME:
DESCRIPTION:Reminder for Apertura straordinaria il 1° gennaio
END:VALARM
END:VEVENT
END:VCALENDAR
