BEGIN:VCALENDAR
VERSION:2.0
PRODID:-//Reggia di Caserta //NONSGML Events //EN
CALSCALE:GREGORIAN
X-WR-CALNAME:Reggia di Caserta
BEGIN:VEVENT
CREATED:20240711T100612Z
UID:27409
DTEND;VALUE=DATE:19700823T092514
DTSTART;VALUE=DATE:20240714T021555
DTSTAMP:20260426T001555Z
LOCATION:
DESCRIPTION:<div class="xdj266r x11i5rnm xat24cr x1mh8g0r x1vvkbs x126k92a"> <p dir="auto">Il 14 luglio, dalle ore 8:30 alle 12:30, i Giardini della Flora saranno aperti al pubblico per l'evento "Rosso Vanvitelliano alla Flora", evento a ingresso libero del Bando di Valorizzazione Partecipata.</p> Un momento di cultura, lettura, musica e dialoghi in uno degli angoli più suggestivi della Reggia di Caserta, riaperto gratuitamente per tutti! </div> <div dir="auto">Qui di seguito il Programma della mattinata:</div> <div dir="auto"></div> <div dir="auto">ore 8:30: Luigi Vanvitelli accoglie il pubblico</div> <div dir="auto">ore 9:30 - 10:00: LIBERTÉ: Monodialoghi al suono della Sinfonia della Natura Rosso Vanvitelliano</div> <div dir="auto">ore 9:30: Lettura libera nell'angolo del Silent Party all'inglese</div> <div dir="auto">ore 10:00: Incontro con gli alberi a cura di Lipu Caserta odv</div> <div dir="auto">ore 10:30 - 11:00: EGALITÉ: Monodialoghi al suono della Sinfonia della Natura Rosso Vanvitelliano</div> <div dir="auto">ore 11:00: Raccontami un sogno, i giovani incontrano il Pulcinella Rosso Etico e i più piccoli il Reddy Bear</div> <div dir="auto">ore 11:30 - 12:00: FRATERNITÉ: Monodialoghi al suono della Sinfonia della Natura Rosso Vanvitelliano</div> <div dir="auto">ore 12:00: SPEAKERS' CORNER, il primo del Sud Italia: possibilità, su prenotazione, di parlare alla città per un tempo massimo di 5 minuti a clessidra</div> <div dir="auto"></div> <div class="x11i5rnm xat24cr x1mh8g0r x1vvkbs xtlvy1s x126k92a"> <p dir="auto">Ricordiamo che l'accesso al Giardino della Flora non include la visita agli Appartamenti reali e al Parco reale</p> </div>
SUMMARY:Rosso Vanvitelliano alla Flora
ORGANIZER:Reggia di Caserta
URL;VALUE=URI:https://reggiadicaserta.cultura.gov.it/iniziative/rosso-vanvitelliano-alla-flora/
TRANSP:OPAQUE
BEGIN:VALARM
ACTION:DISPLAY
TRIGGER;VALUE=DATE-TIME:
DESCRIPTION:Reminder for Rosso Vanvitelliano alla Flora
END:VALARM
END:VEVENT
END:VCALENDAR
