BEGIN:VCALENDAR
VERSION:2.0
PRODID:-//Reggia di Caserta //NONSGML Events //EN
CALSCALE:GREGORIAN
X-WR-CALNAME:Reggia di Caserta
BEGIN:VEVENT
CREATED:20240405T063028Z
UID:26739
DTEND;VALUE=DATE:19700823T092006
DTSTART;VALUE=DATE:20240406T011043
DTSTAMP:20260424T231043Z
LOCATION:
DESCRIPTION:<div class="x_elementToProof">La Reggia di Caserta vuole conoscere i suoi visitatori e il loro giudizio sull'esperienza del Complesso vanvitelliano.</div> <div></div> <div>Sta per iniziare la nuova campagna di customer satisfaction del Museo. Il personale di fruizione, accoglienza e vigilanza proporrà al pubblico un questionario finalizzato a verificarne il grado di soddisfazione. La ricerca mira a conoscere meglio gli utenti, le aspettative e il rapporto personale con la Reggia di Caserta che intende essere sempre più accogliente e favorire la partecipazione attiva. L'iniziativa rientra nelle attività dell'Istituto del MiC finalizzate al miglioramento degli standard qualititativi in continuità con le ricerche effettuate negli corsi anni.</div> <div></div> <div>Due gli strumenti conoscitivi: l'uno relativo ai servizi del Museo e all'esperienza di visita nella sua complessità; l'altro dedicato alla collezione Terrae Motus, l'esposizione di arte contemporanea donata alla Reggia di Caserta dal gallerista Lucio Amelio ed allestita da quattro anni lungo il percorso degli Appartamenti reali.</div> <div></div> <div class="x_elementToProof">Fino al 25 giugno, inoltre, dal mercoledì al venerdì, gli assistenti alla fruizione, accoglienza e vigilanza saranno a disposizione del pubblico per approfondire dettagli e curiosità sulle opere di Terrae Motus che annoverano, tra le altre, “Fate presto” di Andy Warhol, "Italia porta" di Luciano Fabro, "Sussulto" di Mario Schifano, "Terrae Motus" di Mario Merz, "L'altra figura" di Giulio Paolini, "Re uccisi al decadere della forza" di Mimmo Paladino, "Als ob... '84-I" di Emilio Vedova", West-Go Ho (Glut)" di Robert Rauschenberg, "Terremoto in palazzo" di Joseph Beuys, "Senza Titolo" di Keith Haring, "Et la terre tremble encore" di Anselm Kiefer, "Static " di Gerhard Richter e "Vesuvius Circle" di Richard Long.</div>
SUMMARY:Alla Reggia di Caserta partono l’indagine sulla soddisfazione dei visitatori  e le visite accompagnate alla collezione Terrae Motus
ORGANIZER:Reggia di Caserta
URL;VALUE=URI:https://reggiadicaserta.cultura.gov.it/iniziative/alla-reggia-di-caserta-partono-lindagine-sulla-soddisfazione-dei-visitatori-e-le-visite-accompagnate-alla-collezione-terrae-motus/
TRANSP:OPAQUE
BEGIN:VALARM
ACTION:DISPLAY
TRIGGER;VALUE=DATE-TIME:
DESCRIPTION:Reminder for Alla Reggia di Caserta partono l&#8217\;indagine sulla soddisfazione dei visitatori  e le visite accompagnate alla collezione Terrae Motus
END:VALARM
END:VEVENT
END:VCALENDAR
