BEGIN:VCALENDAR
VERSION:2.0
PRODID:-//Reggia di Caserta //NONSGML Events //EN
CALSCALE:GREGORIAN
X-WR-CALNAME:Reggia di Caserta
BEGIN:VEVENT
CREATED:20231116T104906Z
UID:25891
DTEND;VALUE=DATE:19700823T064518
DTSTART;VALUE=DATE:20231118T101925
DTSTAMP:20260423T091925Z
LOCATION:
DESCRIPTION:<div class="x_elementToProof" style="text-align: center;"><i>Sabato pomeriggio in musica alla Reggia di Caserta </i></div> <div class="x_elementToProof" style="text-align: center;"><i>Vanvitelli e il Classicismo - Eredità del futuro</i></div> <div class="x_elementToProof" style="text-align: center;"><i> </i></div> <div class="x_elementToProof" style="text-align: center;"><i>Appuntamento con l'Orchestra da Camera di Caserta il 18 novembre in Cappella Palatina</i></div> <div class="x_elementToProof"></div> <div class="x_elementToProof">Sabato pomeriggio in musica alla Reggia di Caserta. Il 18 novembre, alle ore 17.30, nella Cappella Palatina della Reggia di Caserta in scena il secondo concerto dell’Orchestra da Camera di Caserta per le Celebrazioni Vanvitelliane.</div> <div class="x_elementToProof"></div> <div class="x_elementToProof">Alla seconda parte di Musica al Tempo di Vanvitelli, progetto dell’orchestra diretta da Antonino Cascio, parteciperà in qualità di solista ospite il violinista Seiji Okamoto, vincitore del prestigioso Concorso ARD di Monaco dell’anno 2021. In programma la Romanza per violino e orchestra in fa maggiore op.50 di Ludwig van Beethoven, il Concerto n.3 KV 216 per violino e orchestra di Wolfgang Amadeus Mozart e la Sinfonia n.81 di Franz Joseph Haydn, brani che, come Vanvitelli proietta la sontuosità tardo - barocca verso il razionalismo e la compostezza delle linee classiche, raccolgono l’eredità del passato proiettandola verso un prossimo futuro. Infatti, se la Romanza di Beethoven, pur nella sua compostezza, profuma già di romanticismo, la sinfonia di Haydn, con le sue dissonanze e certe ambiguità tonali, prelude a futuri sviluppi armonici.</div> <div class="x_elementToProof"></div> <div class="x_elementToProof">Il progetto “Musica al tempo di Vanvitelli”, scelto dal comitato scientifico del Museo nell’ambito del piano di valorizzazione partecipata della Reggia di Caserta, si avvale del sostegno del MiC e della Regione Campania. Trae spunto da quanto colto dal maestro in occasione della rappresentazione al Teatro di San Carlo di Napoli dell’opera Alessandro nelle Indie di Johann Cristian Bach “…Conviene confessare che la Musica non è più privativa dell’Italia. L’armonia, la dolcezza, la grazia, la regolata varietà, e tutt’altro che costituisce Musica e Melodia praticata da questo valentissimo uomo (J.C. Bach) mi ha sorpreso come ogni altro di Napoli…” (Lettera del 16 gennaio 1762). Vanvitelli, dunque, coglie con sorprendente acume e anticipo il nuovo corso della musica e gli elementi che caratterizzeranno quello che viene comunemente definito lo “stile classico”. Il progetto ha avuto inizio con grande successo la scorsa primavera e proseguirà per tutto il periodo delle Celebrazioni.</div> <div class="x_elementToProof"></div> <div class="x_elementToProof">La partecipazione all'iniziativa è inclusa nel costo ordinario del biglietto di ingresso o abbonamento al Museo fino a esaurimento posti. L’accesso alla Cappella Palatina è consentito dalle ore 17.15.</div> <div class="x_elementToProof">Dalle 17 il costo del biglietto per l'accesso al Palazzo reale è di 4 euro.</div> <div class="x_elementToProof"></div> <div class="x_elementToProof">Il concerto sarà proposto in replica venerdì 17 novembre alle ore 20 presso la Chiesa di S. Francesco ad Aversa nell’ambito del segmento “Vanvitelli oltre la Reggia”.</div> <div></div> <div>__________________________________________</div> <div></div> <div>“Musica al tempo di Vanvitelli” - Seconda Parte</div> <div>“…L’armonia, la dolcezza, la grazia, la regolata varietà…”</div> <div></div> <div>Sabato 18 Novembre – 17.30</div> <div>Reggia di Caserta Cappella Palatina</div> <div>Orchestra da Camera di Caserta</div> <div>Antonino Cascio direttore</div> <div>Seiji Okamoto violino</div> <div>Premio ARD di Monaco 2021</div> <div></div> <div>Ludwig van Beethoven</div> <div>Romanza in fa maggiore per violino e orchestra op.50</div> <div>Wolfgang Amadeus Mozart</div> <div>Concerto n.3 in sol maggiore per violino e orchestra KV 216</div> <div>Franz Joseph Haydn</div> <div>Sinfonia n.81</div> <div></div> <div class="x_elementToProof">Contatti  orchestracaserta@virgilio.it - 0823361801</div>
SUMMARY:Sabato pomeriggio in musica alla Reggia di Caserta. Vanvitelli e il Classicismo – Eredità del futuro
ORGANIZER:Reggia di Caserta
URL;VALUE=URI:https://reggiadicaserta.cultura.gov.it/iniziative/sabato-pomeriggio-in-musica-alla-reggia-di-caserta-vanvitelli-e-il-classicismo-eredita-del-futuro/
TRANSP:OPAQUE
BEGIN:VALARM
ACTION:DISPLAY
TRIGGER;VALUE=DATE-TIME:
DESCRIPTION:Reminder for Sabato pomeriggio in musica alla Reggia di Caserta. Vanvitelli e il Classicismo &#8211\; Eredità del futuro
END:VALARM
END:VEVENT
END:VCALENDAR
