BEGIN:VCALENDAR
VERSION:2.0
PRODID:-//Reggia di Caserta //NONSGML Events //EN
CALSCALE:GREGORIAN
X-WR-CALNAME:Reggia di Caserta
BEGIN:VEVENT
CREATED:20230728T074139Z
UID:25102
DTEND;VALUE=DATE:19700823T064016
DTSTART;VALUE=DATE:20230816T003436
DTSTAMP:20260422T223436Z
LOCATION:
DESCRIPTION:L'istituto del Ministero della Cultura, per promuovere il proprio patrimonio e favorire la permanenza dei visitatori sul territorio nel periodo di maggiore affluenza di turisti in città, <b>apre straordinariamente martedì 15 agosto</b>. <b>Martedì (giorno di ordinaria chiusura settimanale) 15 agosto</b>, la Reggia di Caserta sarà aperta negli orari e nelle modalità ordinarie. - Appartamenti Reali dalle 8.30 alle 19.25 con ultimo accesso alle 18.15; - Cappella Palatina dalle 8.30 alle 18.15 con ultimo accesso alle 18.10; - Giardino Inglese dalle 8.30 alle 18 con ultimo accesso alle 17; - Parco Reale dalle 8.30 alle 19 con ultimo accesso alle 18; - Chiuso il Teatro di Corte. I biglietti sono contingentati per numero e fasce orarie. Sono acquistabili online e in sede, presso la biglietteria in piazza Carlo di Borbone (fino a esaurimento disponibilità). Tutti i visitatori, anche i minori, devono essere muniti di titolo di accesso. Si raccomanda di non portarsi agli ingressi con molto anticipo per evitare inutili attese all'esterno. Non è possibile, infatti, accedere al Complesso vanvitelliano in orario differente da quello riportato sul biglietto.​ La fascia oraria è relativa all'entrata, dall’esterno, alla Reggia di Caserta. Al fine di migliorare la gestione dei flussi, verranno create due file distinte: l'una per i possessori del biglietto "Solo Parco", l'altra per quelli del biglietto "Parco+Appartamenti". I titolari di questi ultimi saranno tenuti a un percorso fisso: prima gli Appartamenti reali, dopo il Parco. Non è consentito riaccedere al Complesso vanvitelliano una volta usciti. Il biglietto viene, infatti, annullato.
SUMMARY:Ferragosto alla Reggia
ORGANIZER:Reggia di Caserta
URL;VALUE=URI:https://reggiadicaserta.cultura.gov.it/iniziative/ferragosto-alla-reggia/
TRANSP:OPAQUE
BEGIN:VALARM
ACTION:DISPLAY
TRIGGER;VALUE=DATE-TIME:
DESCRIPTION:Reminder for Ferragosto alla Reggia
END:VALARM
END:VEVENT
END:VCALENDAR
