BEGIN:VCALENDAR
VERSION:2.0
PRODID:-//Reggia di Caserta //NONSGML Events //EN
CALSCALE:GREGORIAN
X-WR-CALNAME:Reggia di Caserta
BEGIN:VEVENT
CREATED:20221122T144728Z
UID:22798
DTEND;VALUE=DATE:20221226T020715
DTSTART;VALUE=DATE:20221127T020715
DTSTAMP:20260425T010715Z
LOCATION:
DESCRIPTION:<p style="text-align: center;"><strong>Dal 27 novembre al 26 dicembre 2022 le iniziative del Bando di valorizzazione partecipata con l'Orchestra da Camera di Caserta</strong></p> <hr /> Ricomincia il 27 novembre, alle 11.15 nella Cappella Palatina, il ciclo di appuntamenti con le Matinée dell'Orchestra da Camera di Caserta realizzate nell'ambito del bando di Valorizzazione partecipata della Reggia di Caserta. Dopo la Matinée mozartiana del 25 settembre scorso, anteprima dell’Autunno Musicale, realizzata in occasione delle Giornate Europee del Patrimonio con il flautista Alberto Navarra - vincitore dell’edizione 2022 del prestigioso concorso internazionale di flauto Carl Nielsen 2022 - la tradizionale rassegna di concerti prosegue con altri quattro appuntamenti dal 27 novembre al 26 dicembre. L’Orchestra, diretta da Antonino Cascio, ospiterà tre giovani vincitori dei più importanti concorsi internazionali - il violinista Kevin Zhu, premio Paganini 2018, la clarinettista Anna Paulová, premio Manhattan International Music Competition 2022, il violoncellista Ettore Pagano, premio Aram Khachaturian 2022 e l’insigne pianista Bruno Canino, tra i musicisti italiani più noti e amati dal pubblico internazionale, partner abituale dell’Orchestra da Camera di Caserta con la quale ha recentemente registrato i brani che saranno eseguiti per l’occasione. I programmi proporranno musiche di Mozart, Haydn e rarità di Mayr, Stamitz e Kozeluh. I concerti sono inclusi nel costo del biglietto ordinario o abbonamento del Complesso vanvitelliano, salvo le gratuità previste per legge. <hr /> Questo il calendario dei concerti: <ul> <li><strong>Domenica 27 Novembre ore 11.15</strong></li> </ul> solista Kevin Zhu violino ​Wolfgang Amadeus Mozart Concerto in la maggiore per violino e orchestra KV 219 Sinfonia n.29 in la maggiore KV 201 <ul> <li><strong>Domenica 11 Dicembre ore 11.15</strong></li> </ul> <p style="font-weight: 400;"> “Splendori del ‘700 tra Napoli e Venezia”</p> <p style="font-weight: 400;">Ensemble dell’Orchestra da Camera di Caserta</p> <p style="font-weight: 400;">Hasse, Vivaldi, Barbella, Giuliano e Cimarosa</p> <ul> <li><strong>Domenica 18 Dicembre ore 11.15</strong></li> </ul> solista Ettore Pagano violoncello ​Franz Joseph Haydn Concerto in do maggiore per violoncello e orchestra Hob. VIIb / 1 Sinfonia n.63 in do maggiore Hob. I/63 La Roxelane <ul> <li><strong>Lunedì 26 Dicembre ore 11.15</strong></li> </ul> solista Bruno Canino pianoforte Concerto per un Giorno di Festa Giovanni Simone Mayr Sinfonia n.2 in do maggiore Concerto n.1 in do maggiore per pianoforte e orchestra Overture in re maggiore dall’oratorio Sisara Concerto n.2 in do maggiore per pianoforte e orchestra​
SUMMARY:Matinée in musica alla Cappella Palatina
ORGANIZER:Reggia di Caserta
URL;VALUE=URI:https://reggiadicaserta.cultura.gov.it/iniziative/matinee-in-musica-novembre-dicembre-2022/
TRANSP:OPAQUE
BEGIN:VALARM
ACTION:DISPLAY
TRIGGER;VALUE=DATE-TIME:
DESCRIPTION:Reminder for Matinée in musica alla Cappella Palatina
END:VALARM
END:VEVENT
END:VCALENDAR
