BEGIN:VCALENDAR
VERSION:2.0
PRODID:-//Reggia di Caserta //NONSGML Events //EN
CALSCALE:GREGORIAN
X-WR-CALNAME:Reggia di Caserta
BEGIN:VEVENT
CREATED:20221115T134338Z
UID:22388
DTEND;VALUE=DATE:20221127T032815
DTSTART;VALUE=DATE:20221124T032815
DTSTAMP:20260425T022815Z
LOCATION:
DESCRIPTION:La Reggia di Caserta partecipa alla seconda edizione degli Art Days - Napoli Campania accendendo i riflettori sulla collezione Terrae Motus! Dal 24 al 27 novembre 2022, ogni giorno alle 16.00, il Museo del MiC proporrá visite tematiche sulle opere della collezione (per un massimo di 15 persone per ciascun turno), nel corso delle quali i visitatori saranno accompagnati dal personale del Museo. Le visite di approfondimento, della durata di circa un’ora, saranno incluse nel costo ordinario del biglietto/abbonamento al Museo (fatte salve agevolazioni e gratuita come per legge), acquistabile su TicketOne oppure in sede. <h4><strong>Per prenotarsi (fino a esaurimento posti) è necessario scrivere all’indirizzo <a href="mailto:re-ce.valorizzazione@cultura.gov.it">re-ce.valorizzazione@cultura.gov.it</a>, indicando la data desiderata tra il 24, 25, 26 e 27 novembre, attendendo conferma di prenotazione.</strong></h4> Terrae Motus, la grande collezione d’arte contemporanea donata da Lucio Amelio alla Reggia di Caserta, è nata dopo gli eventi sismici che il 23 novembre 1980 devastarono la Campania e la Basilicata. <a href="https://reggiadicaserta.cultura.gov.it/biglietti/" target="_blank" rel="noopener"><strong>Acquista il tuo biglietto</strong></a> <a href="https://reggiadicaserta.cultura.gov.it/terrae-motus-40-anni/" target="_blank" rel="noopener"><strong>Maggiori informazioni sulla collezione Terrae Motus</strong></a> <a href="https://www.artdaysnapolicampania.com/" target="_blank" rel="noopener"><strong>Maggiori informazioni sugli Art Days</strong></a> <hr /> Nell'ambito degli Art Days 2022, la Reggia di Caserta parteciperà a “<strong>Sostenibilità e accessibilità nel sistema dell’arte</strong>”, uno dei quattro talk organizzati dal Team Art Days. L'incontro, a ingresso gratuito, si svolgerà il 24 novembre dalle 16:30 alle 18:30 al Quartiere Intelligente (Scala Montesanto 3, Napoli). <blockquote><em><span class="_aacl _aaco _aacu _aacx _aad7 _aade">Sostenibilità, impatto ambientale e accessibilità sono da tempo entrati a pieno titolo nell’agenda e negli approcci di vari settori, dal privato al pubblico al settore governativo. Come si sta muovendo il sistema dell'arte in questo senso? Quali sono esempi di buone pratiche da cui imparare e trarre ispirazione? Cosa significa, oggi, sostenibilità per l’arte; chi lo stabilisce, e secondo quali criteri? Come si situano istituzioni, artisti e player in questo discorso?</span></em></blockquote> <strong>Saluti in apertura</strong> <ul> <li><span class="_aacl _aaco _aacu _aacx _aad7 _aade">Maria Cristina di Stasio - fondatrice di Quartiere Intelligente</span></li> </ul> <strong>Modera</strong> <ul> <li>Adriana Rispoli - Curatrice indipendente, Coordinatrice Public Program Padiglione Italia 59.Biennale di Venezia, PhD candidate Art&Sustainability (Universita degli Studi di Salerno)</li> </ul> <strong>Relatori</strong> <ul> <li>Valeria Bottalico - Progettista indipendente di strategie di audience engagement, Referente attività educative (Ocean Space, TBA21-Academy) e Curatrice di percorsi tattili (Collezione Peggy Guggenheim, Venezia)</li> <li>Camilla Bove - Gallery Associate (Thomas Dane Gallery) e Co-fondatrice di Gallery Climate Coalition Italia</li> <li>Martina Ercolano - Ricercatrice di Pedagogia generale e sociale e Docente di Educazione museale(Università degli Studi Suor Orsola Benincasa, Napoli)</li> <li>Eugenio Giliberti - Artista</li> <li><em>Vincenzo Mazzarella - Funzionario del Servizio valorizzazione, educazione e mediazione (Reggia di Caserta)</em></li> </ul>
SUMMARY:Art Days 2022
ORGANIZER:Reggia di Caserta
URL;VALUE=URI:https://reggiadicaserta.cultura.gov.it/iniziative/art-days-2022/
TRANSP:OPAQUE
BEGIN:VALARM
ACTION:DISPLAY
TRIGGER;VALUE=DATE-TIME:
DESCRIPTION:Reminder for Art Days 2022
END:VALARM
END:VEVENT
END:VCALENDAR
