BEGIN:VCALENDAR
VERSION:2.0
PRODID:-//Reggia di Caserta //NONSGML Events //EN
CALSCALE:GREGORIAN
X-WR-CALNAME:Reggia di Caserta
BEGIN:VEVENT
CREATED:20221030T230000Z
UID:17799
DTEND;VALUE=DATE:19700823T035826
DTSTART;VALUE=DATE:20221106T233345
DTSTAMP:20260424T223345Z
LOCATION:
DESCRIPTION:<p style="text-align: left;"><strong>Il 6 novembre torna l'appuntamento con la Domenica al Museo, l’iniziativa del Ministero della Cultura che prevede l’apertura gratuita al pubblico di musei, parchi archeologici e luoghi della cultura statali ogni prima domenica del mese.</strong></p> Sarà possibile visitare gli Appartamenti Reali, lasciandosi incantare dalla maestosità delle Sale dell'Ottocento e dai dettagli leziosi delle Sale del Settecento, secondo i seguenti orari: <ul> <li>Appartamenti Reali: apertura 8.30/ultimo ingresso 18.45/chiusura 19.25</li> <li>Parco Reale: apertura 8.30/ ultimo ingresso 14.30/ chiusura 15.30</li> </ul> <strong>La Mostra Frammenti di Paradiso, il Giardino Inglese e il </strong><strong>Teatro di Corte saranno chiusi</strong><strong>.</strong> Il numero dei biglietti è contingentato per fasce orarie. È possibile acquisire il titolo di accesso online, senza costi di commissione o di servizio, sulla piattaforma Ticketone <strong>oppure in sede</strong>. Il 6 novembre, dalle 8.30 fino ad esaurimento ticket, sarà aperta la biglietteria Opera Laboratori del Museo (ingresso piazza Carlo di Borbone). <strong>Una quota dei biglietti messi a disposizione per la giornata sarà, infatti, destinata al ritiro in sede. Si consiglia, tuttavia, la procedura online per evitare la fila in biglietteria.</strong> Su TicketOne è possibile prenotare fino a un<strong> max di 5 biglietti</strong> per ciascun account/persona. Al cancello dovrà essere esibito, in formato cartaceo oppure dal proprio smartphone, il codice a barre del proprio titolo. È possibile scegliere tra il biglietto "Gratuito Solo Parco" e quello "Gratuito Parco+Appartamenti" con relativa fascia oraria. <strong>Non sarà possibile accedere al Complesso vanvitelliano in un orario diverso da quello prescelto</strong>. Non è prevista prenotazione per i titolari di ReggiaCard 2022 che potranno accedere esibendo l'abbonamento e il documento di identità. <div id="Signature"> <div> Si invitano, come sempre, i visitatori alla rigida osservanza del regolamento, consultabile al link <a id="NoLP" href="https://reggiadicaserta.cultura.gov.it/regolamento" target="_blank" rel="noopener">https://reggiadicaserta.cultura.gov.it/regolamento</a>. </div> </div>
SUMMARY:Domenica al Museo | 6 novembre 2022
ORGANIZER:Reggia di Caserta
URL;VALUE=URI:https://reggiadicaserta.cultura.gov.it/iniziative/domenica-al-museo-6-novembre-2022/
TRANSP:OPAQUE
BEGIN:VALARM
ACTION:DISPLAY
TRIGGER;VALUE=DATE-TIME:
DESCRIPTION:Reminder for Domenica al Museo | 6 novembre 2022
END:VALARM
END:VEVENT
END:VCALENDAR
