BEGIN:VCALENDAR
VERSION:2.0
PRODID:-//Reggia di Caserta //NONSGML Events //EN
CALSCALE:GREGORIAN
X-WR-CALNAME:Reggia di Caserta
BEGIN:VEVENT
CREATED:20221020T220000Z
UID:17760
DTEND;VALUE=DATE:19700823T035709
DTSTART;VALUE=DATE:20221029T084824
DTSTAMP:20260424T064824Z
LOCATION:
DESCRIPTION:<strong>I Ponti della Valle dell'Acquedotto carolino aprono al pubblico in occasione della XXVIII edizione della festa della Mela annurca, in programma il 28, 29 e 30 ottobre a Valle di Maddaloni.</strong> <hr /> <strong>AGGIORNAMENTO 24 ottobre: l'iniziativa è SOLD OUT</strong> <hr /> La Reggia di Caserta aderisce all'iniziativa che ogni anno, in autunno, anima il borgo medievale di Valle di Maddaloni con stand enogastronomici, spettacoli, sbandieratori, abiti d'epoca, canti popolari, mostre e visite guidate. La maestosa opera ingegneristica di Luigi Vanvitelli che domina la valle, il 29 ottobre, sarà protagonista di una "passeggiata reale". Nel corso della visita, a gruppi, si potrà attraversare il camminamento superiore del ponte. Si proseguirà percorrendo il sentiero principale nei pressi di due vecchi mulini e della piccola chiesetta diroccata. Dal mulino superiore sarà possibile osservare la portata d'acqua del condotto. Appuntamento il 29 ottobre alle 9.30 nei pressi del monumento sacrario sotto i Ponti della Valle. La visita si concluderà alle ore 12:30. Partecipazione gratuita con prenotazione obbligatoria scrivendo una mail a <a href="mailto:re-ce.acquedottocarolino@cultura.gov.it">re-ce.acquedottocarolino@cultura.gov.it</a>. Numero di posti limitato. Si consiglia abbigliamento comodo. L'Acquedotto carolino venne progettato da Vanvitelli per alimentare i giochi d’acqua della Reggia di Caserta e per soddisfare le esigenze del Palazzo Reale e della città. Il tratto fuori terra dei Ponti della Valle, oggi immagine iconica dell’Acquedotto, è una imponente struttura in tufo con tre ordini di archi a tutto sesto che si innalza per un’altezza di 60 metri ed una lunghezza di circa 500 metri. Il tracciato dell’acquedotto si snoda per lo più interrato per una lunghezza di 38 km, con alcuni ponti-canale.
SUMMARY:I Ponti della Valle dell’Acquedotto carolino aprono al pubblico in occasione della XXVIII edizione della festa della Mela annurca
ORGANIZER:Reggia di Caserta
URL;VALUE=URI:https://reggiadicaserta.cultura.gov.it/iniziative/i-ponti-della-valle-dellacquedotto-carolino-aprono-al-pubblico-in-occasione-della-xxviii-edizione-della-festa-della-mela-annurca/
TRANSP:OPAQUE
BEGIN:VALARM
ACTION:DISPLAY
TRIGGER;VALUE=DATE-TIME:
DESCRIPTION:Reminder for I Ponti della Valle dell&#8217\;Acquedotto carolino aprono al pubblico in occasione della XXVIII edizione della festa della Mela annurca
END:VALARM
END:VEVENT
END:VCALENDAR
