BEGIN:VCALENDAR
VERSION:2.0
PRODID:-//Reggia di Caserta //NONSGML Events //EN
CALSCALE:GREGORIAN
X-WR-CALNAME:Reggia di Caserta
BEGIN:VEVENT
CREATED:20220815T220000Z
UID:17703
DTEND;VALUE=DATE:19700823T035339
DTSTART;VALUE=DATE:20220819T043930
DTSTAMP:20260424T023930Z
LOCATION:
DESCRIPTION:Affacciarsi sul Parco Reale al chiarore della luna, attraversare le Sale delle mostre per essere rapiti dalle suggestioni delle opere esposte, percorrere gli Appartamenti reali circondati dal fascino dell'atmosfera serale. La magia della Reggia di Caserta dopo il tramonto si svela in un appuntamento conclusivo: <strong>venerdì 19 agosto c'è l'ultima apertura serale straordinaria di</strong><strong> "Le notti della Meraviglia". </strong> Dalle 19.30 alle 23.30, con ultimo ingresso alle 22.15, sarà possibile visitare le mostre Frammenti di Paradiso - Giardini nel tempo alla Reggia di Caserta e Il Piccolo Principe - Giuseppe Sanmartino alla Reggia di Caserta e gli Appartamenti Reali. <div> Il pubblico della sera, passo dopo passo, potrà scoprire il Primo piano del Palazzo Reale, scrigno di infinita bellezza. Dopo aver salito lo Scalone Reale, ad attendere il pubblico ci sarà l'esposizione negli Appartamenti della Regina che raccoglie oltre 150 rappresentazioni dei giardini nel corso dei secoli. Nell’articolarsi delle sezioni sono presentate numerose opere, in molti casi inedite, provenienti da prestigiosi musei e istituzioni italiane ed europee, oltre che da collezioni private, biblioteche e altri istituti pubblici di artisti del calibro di Gaspar van Wittel, Claude Lorrain, Paolo Anesi, Pietro e Gianlorenzo Bernini, Hubert Robert, Hendrick van Cleve III, Jules-César-Denis van Loo, Giusto Utens, Joseph Heintz il giovane e, naturalmente, Jacob Philipp Hackert. Alla fine del percorso della mostra sarà possibile affacciarsi dal balcone della sala della Vista e da lì godere della bellezza del Parco Reale illuminato dalla luna. Un'occasione unica per godere di uno spettacolo mozzafiato! </div> <div></div> <div> L'esposizione Frammenti di Paradiso sarà al centro di un'interessante <strong>visita di approfondimento </strong>inclusa nel costo del biglietto di ingresso. In tre turni, alle 19.30, alle 20.30 e alle 21.30, sarà possibile <span style="color: #212121;">scoprire curiosità e dettagli delle opere con un esperto.</span><span style="color: #212121;"> </span><span style="color: #212121;">Durata della visita di approfondimento circa un'ora, </span><span style="color: #212121;">fino ad esaurimento posti. </span><span style="color: #212121;"><strong>Prenotazione consigliata allo 0823/448084</strong>. </span><span style="color: #212121;">Gli interessati/prenotati dovranno recarsi 10 minuti prima all'info Point Opera Laboratori al Cancello centrale del Museo. </span> </div>
SUMMARY:Venerdì 19 agosto ultimo appuntamento con “Le Notti della Meraviglia”
ORGANIZER:Reggia di Caserta
URL;VALUE=URI:https://reggiadicaserta.cultura.gov.it/iniziative/venerdi-19-agosto-ultimo-appuntamento-con-le-notti-della-meraviglia/
TRANSP:OPAQUE
BEGIN:VALARM
ACTION:DISPLAY
TRIGGER;VALUE=DATE-TIME:
DESCRIPTION:Reminder for Venerdì 19 agosto ultimo appuntamento con &#8220\;Le Notti della Meraviglia&#8221\;
END:VALARM
END:VEVENT
END:VCALENDAR
