BEGIN:VCALENDAR
VERSION:2.0
PRODID:-//Reggia di Caserta //NONSGML Events //EN
CALSCALE:GREGORIAN
X-WR-CALNAME:Reggia di Caserta
BEGIN:VEVENT
CREATED:20220510T220000Z
UID:17694
DTEND;VALUE=DATE:19700823T034834
DTSTART;VALUE=DATE:20220514T234217
DTSTAMP:20260423T214217Z
LOCATION:
DESCRIPTION:<p style="font-weight: 400; text-align: center;"><strong><em>Il 14 maggio è la Notte dei Musei </em><em>Apertura serale a 1 euro degli Appartamenti Reali della Reggia di Caserta</em></strong></p> <hr /> <p style="font-weight: 400;">La Reggia di Caserta aderisce alla Notte europea dei Musei. Sabato, 14 maggio, gli Appartamenti Reali saranno aperti dalle 19.30 alle 22.15, con ultimo ingresso alle 21.45, al costo simbolico di 1 euro (+ 1 euro per gli acquisti online). Goloso aperitivo al chiarore di piccole luci sotto al Cannocchiale del Palazzo.</p> <p style="font-weight: 400;">L'istituto museale del MiC, anche quest'anno, partecipa all'iniziativa che si svolge in contemporanea in tutta Europa. La Reggia di Caserta ha scelto di dedicare questa apertura straordinaria serale del Piano nobile al suo grande ideatore: Luigi Vanvitelli. L'architetto, cui Re Carlo di Borbone commissionò la sua residenza, il 12 maggio festeggia infatti il suo compleanno. Per ricordarlo il Servizio Valorizzazione, Educazione e Mediazione</p>
SUMMARY:Notte dei Musei 2022 alla Reggia di Caserta
ORGANIZER:Reggia di Caserta
URL;VALUE=URI:https://reggiadicaserta.cultura.gov.it/iniziative/notte-dei-musei-2022-alla-reggia-di-caserta/
TRANSP:OPAQUE
BEGIN:VALARM
ACTION:DISPLAY
TRIGGER;VALUE=DATE-TIME:
DESCRIPTION:Reminder for Notte dei Musei 2022 alla Reggia di Caserta
END:VALARM
END:VEVENT
END:VCALENDAR
