BEGIN:VCALENDAR
VERSION:2.0
PRODID:-//Reggia di Caserta //NONSGML Events //EN
CALSCALE:GREGORIAN
X-WR-CALNAME:Reggia di Caserta
BEGIN:VEVENT
CREATED:20220421T220000Z
UID:17205
DTEND;VALUE=DATE:19700823T034822
DTSTART;VALUE=DATE:20220502T010843
DTSTAMP:20260423T230843Z
LOCATION:
DESCRIPTION:<p style="text-align: center;"><strong><em>Domenica gratuita alla Reggia di Caserta, </em><em>il 1° maggio secondo appuntamento del 2022</em></strong></p> <hr /> <strong>AGGIORNAMENTO 26 APRILE 2022: I biglietti per il 1° maggio sono SOLD OUT. La biglietteria in sede sarà chiusa.</strong> Domenica con ingresso gratuito il 1° maggio alla Reggia di Caserta. Gli istituti del Ministero della Cultura la prima domenica del mese aprono ai loro pubblici gratuitamente. Il Complesso vanvitelliano, che il 3 aprile scorso in occasione della "inaugurazione" di queste giornate ha registrato un grande afflusso di visitatori e il sold out dei biglietti disponibili, ha predisposto una serie di misure finalizzate a offrire ai suoi pubblici occasioni di conoscenza e diletto, assicurando la salvaguardia del patrimonio museale, nel rispetto delle misure di sicurezza e delle norme anti Covid in vigore. Sarà possibile accedere al Complesso vanvitelliano esclusivamente <strong>previa acquisizione online del biglietto</strong>, gratuito e senza costi di commissione o di servizio, sulla piattaforma Ticketone, oppure <strong>fino al 30 aprile presso la biglietteria Opera Laboratori del Museo</strong> (ingresso piazza Carlo di Borbone). Il 1° maggio <strong>l</strong><strong>a biglietteria in sede sarà chiusa</strong> e non sarà possibile ritirare tickets all'interno del Complesso vanvitelliano.​ E' possibile prenotare fino a un<strong> max di 5 biglietti</strong> per ciascun account/persona. Al cancello dovrà essere esibito, in formato cartaceo oppure dal proprio smartphone, il codice a barre del proprio titolo di accesso. Non sarà consentito l'ingresso a gruppi scolastici. <strong>Il numero di ticket è contingentato</strong> e distribuito su fasce orarie. Raggiunta la quantità massima prevista, non saranno consentit ulteriori accessi. E' possibile scegliere tra il biglietto "Gratuito Solo Parco" e quello "Gratuito Parco+Appartamenti" con relativa fascia oraria. <strong>Non sarà possibile accedere al Complesso vanvitelliano in un orario diverso da quello prescelto</strong>. In piazza Carlo di Borbone, all'esterno del Monumento, saranno organizzate due file distinte per i due diversi itinerari al fine di snellire le procedure e rendere più breve l'attesa del pubblico. Aperto anche il cancello di corso Giannone, consigliato per coloro che intendono visitare unicamente il Parco Reale. Non è prevista prenotazione per i titolari di ReggiaCard 2022 che potranno accedere esibendo l'abbonamento e il documento di identità. ​Saranno aperti Appartamenti Reali (ala dell'Ottocento fino alla Sala del Trono per interventi di restauro in corso), Parco Reale e Giardino Inglese. Il <strong>Teatro di Corte sarà chiuso</strong>. Il Museo Reggia di Caserta, che accoglie ogni giorno migliaia di persone nei suoi splendidi Appartamenti Reali, nell'incanto del Parco Reale e del Giardino Inglese, invita i visitatori alla rigida osservanza del regolamento, consultabile <a href="https://reggiadicaserta.cultura.gov.it/regolamento" target="_blank" rel="noopener">qui</a>, e al rispetto dei fragili luoghi che custodisce.
SUMMARY:Domenica gratuita: il 1° maggio secondo appuntamento del 2022
ORGANIZER:Reggia di Caserta
URL;VALUE=URI:https://reggiadicaserta.cultura.gov.it/iniziative/domenica-gratuita-il-1-maggio-secondo-appuntamento-del-2022/
TRANSP:OPAQUE
BEGIN:VALARM
ACTION:DISPLAY
TRIGGER;VALUE=DATE-TIME:
DESCRIPTION:Reminder for Domenica gratuita: il 1° maggio secondo appuntamento del 2022
END:VALARM
END:VEVENT
END:VCALENDAR
