BEGIN:VCALENDAR
VERSION:2.0
PRODID:-//Reggia di Caserta //NONSGML Events //EN
CALSCALE:GREGORIAN
X-WR-CALNAME:Reggia di Caserta
BEGIN:VEVENT
CREATED:20220317T230000Z
UID:17201
DTEND;VALUE=DATE:19700823T034520
DTSTART;VALUE=DATE:20220320T044432
DTSTAMP:20260424T034432Z
LOCATION:
DESCRIPTION:<p align="center"><em><strong>​Concerto di <span id="0.47231036121311876">Primavera</span> nella Sala del Trono</strong></em></p> <p align="center"><em><strong>Con l'associazione Jervolino si festeggia l'equinozio in musica</strong></em></p> <hr /> ​Benvenuta <span id="0.19236577214426798">primavera</span>! Domenica 20 marzo, dalle 10.30 alle 12.30, la Reggia di Caserta festeggia l'equinozio di <span id="0.505014751396115">primavera</span> in musica. Negli Appartamenti Reali  “Suoni e profumi vagano nell’aria" con l'associazione Anna Jervolino.  Il duo Syrinx, con Antonio Troncone al flauto e Alba Brundo all'arpa, eseguirà Andante con variazioni - Gioacchino Rossini; Intermezzo e Habanera (dalla Carmen) - George Bizet; Syrinx, Une fille aux cheveaux de lin, Arabesque - Claude Debussy; Nana, Une fille aux cheveaux de lin - Manuel de Falla; Pavane​- Gabriel Faurè; Villanella - Eva dell’Acqua. Le note dei musicisti riecheggeranno nel piano nobile del Palazzo Reale, accompagnando il visitatore lungo il percorso museale a partire dalla Sala del Trono, l’ultima ad essere completata nel 1845 come testimoniano le iscrizioni poste sui lati brevi del soffitto. Lunga più di 40 metri questa è la sala più ampia degli Appartamenti Reali, dominata dalla profusione dell’oro che illumina il maestoso ambiente nel quale si veniva ammessi al cospetto del Re. Nella volta l’affresco del Maldarelli ricorda la cerimonia per la posa della prima pietra celebrata il 20 Gennaio del 1752. ​La partecipazione all'iniziativa rientra nel costo ordinario del biglietto di ingresso/abbonamento al Complesso vanvitelliano.<span style="font-family: Calibri,Arial,Helvetica,sans-serif; font-size: small;"> </span>
SUMMARY:​Concerto di Primavera nella Sala del Trono
ORGANIZER:Reggia di Caserta
URL;VALUE=URI:https://reggiadicaserta.cultura.gov.it/iniziative/concerto-di-primavera-nella-sala-del-trono/
TRANSP:OPAQUE
BEGIN:VALARM
ACTION:DISPLAY
TRIGGER;VALUE=DATE-TIME:
DESCRIPTION:Reminder for ​Concerto di Primavera nella Sala del Trono
END:VALARM
END:VEVENT
END:VCALENDAR
