BEGIN:VCALENDAR
VERSION:2.0
PRODID:-//Reggia di Caserta //NONSGML Events //EN
CALSCALE:GREGORIAN
X-WR-CALNAME:Reggia di Caserta
BEGIN:VEVENT
CREATED:20220303T230000Z
UID:17200
DTEND;VALUE=DATE:19700823T034509
DTSTART;VALUE=DATE:20220309T084537
DTSTAMP:20260424T074537Z
LOCATION:
DESCRIPTION:<p align="center"><em><strong>Gli abbonati raccontano le loro storie</strong></em></p> <p align="center"><em><strong>Il 9 marzo diretta online per il progetto <span id="0.19127777955233416">Memex</span></strong></em></p> <div> <hr /> Le storie della Reggia di Caserta raccontate dai suoi più fedeli visitatori. Il 9 marzo, in diretta streaming sui canali social della Reggia di Caserta, gli abbonati del Complesso vanvitelliano presenteranno i loro racconti digitali creati nell'ambito del progetto MEMEX. </div> Nel mese di dicembre, gli abbonati ReggiaCard 2021 che hanno aderito all'invito del Museo hanno preso parte a cinque incontri laboratoriali per raccontare le loro esperienze e memorie e elaborare storie digitali personali e coinvolgenti. L’obiettivo era quello di costruire percorsi narrativi composti da ricordi personali, da foto, video e dettagli del patrimonio culturale da condividere con la collettività. Raccolte di storie che in parte confluiranno nell’APP di MEMEX, andando ad aggiungersi ad altre storie realizzate in diversi contesti europei (Lisbona, Barcellona e Parigi). Questa preziosa esperienza s’innesta nel percorso di partecipazione avviato con la rielaborazione del Piano di gestione del Sito Unesco. Il 9 marzo, alle 17.00, sui canali Facebook e YouTube della Reggia di Caserta i protagonisti di queste emozionanti storie le "racconteranno" per la prima volta in diretta e verranno svelati dettagli e curiosità del backstage. Un'occasione per essere partecipi della storia del Complesso vanvitelliano, Patrimonio dell'Umanità, Museo vivo e vivace al servizio della società e del suo sviluppo. <div> MEMEX, realizzato per la Reggia di Caserta da ECCOM, organizzazione che opera nel settore culturale per promuovere la partecipazione e l’inclusione sociale, è un progetto triennale (2020-2022) finanziato dal programma Horizon2020 dell’Unione Europea che ha lo scopo di favorire la coesione sociale attraverso strumenti collaborativi e digitali legati al patrimonio culturale. </div>
SUMMARY:Progetto MEMEX: la diretta il 9 marzo 2022
ORGANIZER:Reggia di Caserta
URL;VALUE=URI:https://reggiadicaserta.cultura.gov.it/iniziative/progetto-memex-la-diretta-il-9-marzo-2022/
TRANSP:OPAQUE
BEGIN:VALARM
ACTION:DISPLAY
TRIGGER;VALUE=DATE-TIME:
DESCRIPTION:Reminder for Progetto MEMEX: la diretta il 9 marzo 2022
END:VALARM
END:VEVENT
END:VCALENDAR
